BEGIN:VCALENDAR
VERSION:2.0
PRODID:-//Sabre//Sabre VObject 4.5.8//EN
CALSCALE:GREGORIAN
BEGIN:VEVENT
UID:sabre-vobject-59b4431b-eebb-40d7-a7c1-ef1abcd0c22e
DTSTAMP:20260420T040354Z
SUMMARY:Kirchenführung Pfarrei St. Michael Kempten
DESCRIPTION:https://www2.bistum-augsburg.de/gottesdienste/kirchenfuehrung-p
 farrei-st-michael-kempten_id1723320
DTSTART;TZID=Europe/Berlin:20260507T140000
DURATION:PT30M
LOCATION:Mariä Schmerzen u. St. Ulrich\, Kirchhof 4\, 87764 Maria Steinbac
 h
END:VEVENT
END:VCALENDAR
