BEGIN:VCALENDAR
VERSION:2.0
PRODID:-//Sabre//Sabre VObject 4.5.8//EN
CALSCALE:GREGORIAN
BEGIN:VEVENT
UID:sabre-vobject-03993b67-6475-400a-9a63-bfd55fd26662
DTSTAMP:20260420T040149Z
SUMMARY:Amtsstunde bis 18:30
DESCRIPTION:https://www2.bistum-augsburg.de/gottesdienste/amtsstunde-bis-18
 -30_id1723367
DTSTART;TZID=Europe/Berlin:20260515T180000
DURATION:PT30M
LOCATION:St. Peter und Paul\, Kirchtalstr. 2\, 87763 Lautrach
END:VEVENT
END:VCALENDAR
