BEGIN:VCALENDAR
VERSION:2.0
PRODID:-//Sabre//Sabre VObject 4.5.8//EN
CALSCALE:GREGORIAN
BEGIN:VEVENT
UID:sabre-vobject-034fd738-ae83-4562-86c1-6a7153690251
DTSTAMP:20260424T112850Z
SUMMARY:Hl. Amt
DESCRIPTION:https://www2.bistum-augsburg.de/gottesdienste/hl-amt_id1723382
DTSTART;TZID=Europe/Berlin:20260531T090000
DURATION:PT30M
LOCATION:Mariä Schmerzen u. St. Ulrich\, Kirchhof 4\, 87764 Maria Steinbac
 h
END:VEVENT
END:VCALENDAR
