BEGIN:VCALENDAR
VERSION:2.0
PRODID:-//Sabre//Sabre VObject 4.5.8//EN
CALSCALE:GREGORIAN
BEGIN:VEVENT
UID:sabre-vobject-6d3fd44e-39f0-4e05-8f88-69091be876c4
DTSTAMP:20260424T084006Z
SUMMARY:Familiengottesdienst mit Erstkommunion auf der Wiese\, anschl. Bewi
 rtung
DESCRIPTION:https://www2.bistum-augsburg.de/gottesdienste/familiengottesdie
 nst-mit-erstkommunion-auf-der-wiese-anschl-bewirtung_id1723411
DTSTART;TZID=Europe/Berlin:20260514T091500
DURATION:PT30M
LOCATION:St. Albert
END:VEVENT
END:VCALENDAR
