BEGIN:VCALENDAR
VERSION:2.0
PRODID:-//Sabre//Sabre VObject 4.5.8//EN
CALSCALE:GREGORIAN
BEGIN:VEVENT
UID:sabre-vobject-2e6b8cff-a5c6-4a03-9757-c0852fa16753
DTSTAMP:20260423T194116Z
SUMMARY:Hl. Messe
DESCRIPTION:https://www2.bistum-augsburg.de/gottesdienste/hl-messe_id172342
 2
DTSTART;TZID=Europe/Berlin:20260522T083000
DURATION:PT30M
LOCATION:St. Albert
END:VEVENT
END:VCALENDAR
