BEGIN:VCALENDAR
VERSION:2.0
PRODID:-//Sabre//Sabre VObject 4.5.8//EN
CALSCALE:GREGORIAN
BEGIN:VEVENT
UID:sabre-vobject-79e27749-4138-4d04-b6b6-71d41afdaf0e
DTSTAMP:20260423T192451Z
SUMMARY:Beichtgelegenheit in der Kapelle
DESCRIPTION:https://www2.bistum-augsburg.de/gottesdienste/beichtgelegenheit
 -in-der-kapelle_id1723423
DTSTART;TZID=Europe/Berlin:20260516T174500
DURATION:PT30M
LOCATION:St. Pius
END:VEVENT
END:VCALENDAR
