BEGIN:VCALENDAR
VERSION:2.0
PRODID:-//Sabre//Sabre VObject 4.5.8//EN
CALSCALE:GREGORIAN
BEGIN:VEVENT
UID:sabre-vobject-f1aae8ef-42c0-45dd-93e6-637df1a2cf5c
DTSTAMP:20260424T110611Z
SUMMARY:Bittmesse der Pfarrei St. Pius
DESCRIPTION:https://www2.bistum-augsburg.de/gottesdienste/bittmesse-der-pfa
 rrei-st-pius_id1723425
DTSTART;TZID=Europe/Berlin:20260513T183000
DURATION:PT30M
LOCATION:St. Georg
END:VEVENT
END:VCALENDAR
