BEGIN:VCALENDAR
VERSION:2.0
PRODID:-//Sabre//Sabre VObject 4.5.8//EN
CALSCALE:GREGORIAN
BEGIN:VEVENT
UID:sabre-vobject-a3234d5a-d1d4-4cf7-a800-19642cc74576
DTSTAMP:20260425T143110Z
SUMMARY:Hl. Messe
DESCRIPTION:https://www2.bistum-augsburg.de/gottesdienste/hl-messe_id172348
 2
DTSTART;TZID=Europe/Berlin:20260519T083000
DURATION:PT30M
LOCATION:St. Albert
END:VEVENT
END:VCALENDAR
