BEGIN:VCALENDAR
VERSION:2.0
PRODID:-//Sabre//Sabre VObject 4.5.8//EN
CALSCALE:GREGORIAN
BEGIN:VEVENT
UID:sabre-vobject-55ece98f-0894-4a6c-bc93-60b41d449e84
DTSTAMP:20260419T204851Z
SUMMARY:Feierliche Maiandacht\, musik. Gestaltung: Kirchenchor
DESCRIPTION:https://www2.bistum-augsburg.de/gottesdienste/feierliche-maiand
 acht-musik-gestaltung-kirchenchor_id1723508
DTSTART;TZID=Europe/Berlin:20260501T193000
DURATION:PT30M
LOCATION:St. Andreas
END:VEVENT
END:VCALENDAR
