BEGIN:VCALENDAR
VERSION:2.0
PRODID:-//Sabre//Sabre VObject 4.5.8//EN
CALSCALE:GREGORIAN
BEGIN:VEVENT
UID:sabre-vobject-63fedfe6-6c5f-42a4-bdcb-3bb5f9213ca9
DTSTAMP:20260424T200920Z
SUMMARY:VAM entfällt
DESCRIPTION:https://www2.bistum-augsburg.de/gottesdienste/vam-entfaellt_id1
 723510
DTSTART;TZID=Europe/Berlin:20260425T180000
DURATION:PT30M
LOCATION:St. Nikolaus
END:VEVENT
END:VCALENDAR
