BEGIN:VCALENDAR
VERSION:2.0
PRODID:-//Sabre//Sabre VObject 4.5.8//EN
CALSCALE:GREGORIAN
BEGIN:VEVENT
UID:sabre-vobject-7bc444b3-a898-4700-9e07-ad3f4d04584a
DTSTAMP:20260423T174325Z
SUMMARY:nach dem Gottesdienst Aussetzung des Allerheiligsten\, \nAnbetung b
 is 17.00 Uhr
DESCRIPTION:https://www2.bistum-augsburg.de/gottesdienste/nach-dem-gottesdi
 enst-aussetzung-des-allerheiligsten-anbetung-bis-17-00-uhr_id1723512
DTSTART;TZID=Europe/Berlin:20260426T110000
DURATION:PT30M
LOCATION:St. Nikolaus
END:VEVENT
END:VCALENDAR
