BEGIN:VCALENDAR
VERSION:2.0
PRODID:-//Sabre//Sabre VObject 4.5.8//EN
CALSCALE:GREGORIAN
BEGIN:VEVENT
UID:sabre-vobject-0224af69-3263-4d95-be52-3ad96a8eb7d6
DTSTAMP:20260425T012420Z
SUMMARY:Gestaltete Anbetung Thema: Berufung
DESCRIPTION:https://www2.bistum-augsburg.de/gottesdienste/gestaltete-anbetu
 ng-thema-berufung_id1723515
DTSTART;TZID=Europe/Berlin:20260426T150000
DURATION:PT30M
LOCATION:St. Nikolaus
END:VEVENT
END:VCALENDAR
