BEGIN:VCALENDAR
VERSION:2.0
PRODID:-//Sabre//Sabre VObject 4.5.8//EN
CALSCALE:GREGORIAN
BEGIN:VEVENT
UID:sabre-vobject-5a6e4d00-da42-44f4-a3b2-91994cf8e536
DTSTAMP:20260424T223335Z
SUMMARY:Hl. Messe in der Fachklinik
DESCRIPTION:https://www2.bistum-augsburg.de/gottesdienste/hl-messe-in-der-f
 achklinik_id1723529
DTSTART;TZID=Europe/Berlin:20260519T190000
DURATION:PT30M
LOCATION:St. Kilian
END:VEVENT
END:VCALENDAR
