BEGIN:VCALENDAR
VERSION:2.0
PRODID:-//Sabre//Sabre VObject 4.5.8//EN
CALSCALE:GREGORIAN
BEGIN:VEVENT
UID:sabre-vobject-b718deb0-018a-4d44-89f4-4ca8de6afeff
DTSTAMP:20260423T162730Z
SUMMARY:Hl. Messe- Maria Bayern
DESCRIPTION:https://www2.bistum-augsburg.de/gottesdienste/hl-messe-maria-ba
 yern_id1723547
DTSTART;TZID=Europe/Berlin:20260501T100000
DURATION:PT30M
LOCATION:Mariä Himmelfahrt
END:VEVENT
END:VCALENDAR
