BEGIN:VCALENDAR
VERSION:2.0
PRODID:-//Sabre//Sabre VObject 4.5.8//EN
CALSCALE:GREGORIAN
BEGIN:VEVENT
UID:sabre-vobject-4221f7ce-52aa-4a56-8d55-d23540872e95
DTSTAMP:20260419T173217Z
SUMMARY:Rosenkranz in der Pfarrkirche
DESCRIPTION:https://www2.bistum-augsburg.de/gottesdienste/rosenkranz-in-der
 -pfarrkirche_id1723548
DTSTART;TZID=Europe/Berlin:20260513T190000
DURATION:PT30M
LOCATION:St. Kilian
END:VEVENT
END:VCALENDAR
