BEGIN:VCALENDAR
VERSION:2.0
PRODID:-//Sabre//Sabre VObject 4.5.8//EN
CALSCALE:GREGORIAN
BEGIN:VEVENT
UID:sabre-vobject-0c5ffb92-2e7c-46cf-b68d-604ae1c08686
DTSTAMP:20260425T021129Z
SUMMARY:Marienandacht bei der Kapelle Maria am Weg
DESCRIPTION:https://www2.bistum-augsburg.de/gottesdienste/marienandacht-bei
 -der-kapelle-maria-am-weg_id1723565
DTSTART;TZID=Europe/Berlin:20260514T190000
DURATION:PT30M
LOCATION:St. Kilian
END:VEVENT
END:VCALENDAR
