BEGIN:VCALENDAR
VERSION:2.0
PRODID:-//Sabre//Sabre VObject 4.5.8//EN
CALSCALE:GREGORIAN
BEGIN:VEVENT
UID:sabre-vobject-52ecb06f-9df2-497f-a571-810be0ab7f77
DTSTAMP:20260424T225450Z
SUMMARY:Pfarrgottesdienst in der Pfarrkirche\nKollekte für den Pfarrheimbe
 trieb
DESCRIPTION:https://www2.bistum-augsburg.de/gottesdienste/pfarrgottesdienst
 -in-der-pfarrkirche-kollekte-fuer-den-pfarrheimbetrieb_id1723570
DTSTART;TZID=Europe/Berlin:20260503T093000
DURATION:PT30M
LOCATION:St. Kilian
END:VEVENT
END:VCALENDAR
