BEGIN:VCALENDAR
VERSION:2.0
PRODID:-//Sabre//Sabre VObject 4.5.8//EN
CALSCALE:GREGORIAN
BEGIN:VEVENT
UID:sabre-vobject-10b92591-c802-4311-a47a-535525a4d9ae
DTSTAMP:20260423T092512Z
SUMMARY:Krankensalbungsgottesdienst im Pfarrsaal (Pfarrheim)\nIm Anschluss 
 gibt es Kaffee und Kuchen
DESCRIPTION:https://www2.bistum-augsburg.de/gottesdienste/krankensalbungsgo
 ttesdienst-im-pfarrsaal-pfarrheim-im-anschluss-gibt-es-kaffee-und-kuchen_i
 d1723574
DTSTART;TZID=Europe/Berlin:20260506T140000
DURATION:PT30M
LOCATION:St. Kilian
END:VEVENT
END:VCALENDAR
