BEGIN:VCALENDAR
VERSION:2.0
PRODID:-//Sabre//Sabre VObject 4.5.8//EN
CALSCALE:GREGORIAN
BEGIN:VEVENT
UID:sabre-vobject-8a5bf5ea-5c0d-492d-9ccc-8820b09c5bcd
DTSTAMP:20260420T215307Z
SUMMARY:Rosenkranz in der Pfarrkirche
DESCRIPTION:https://www2.bistum-augsburg.de/gottesdienste/rosenkranz-in-der
 -pfarrkirche_id1723575
DTSTART;TZID=Europe/Berlin:20260506T190000
DURATION:PT30M
LOCATION:St. Kilian
END:VEVENT
END:VCALENDAR
