BEGIN:VCALENDAR
VERSION:2.0
PRODID:-//Sabre//Sabre VObject 4.5.8//EN
CALSCALE:GREGORIAN
BEGIN:VEVENT
UID:sabre-vobject-2fec4c9c-ef04-40a7-a9a1-650973141c6a
DTSTAMP:20260424T101212Z
SUMMARY:Stille Anbetung in der Pfarrkirche St. Kilian
DESCRIPTION:https://www2.bistum-augsburg.de/gottesdienste/stille-anbetung-i
 n-der-pfarrkirche-st-kilian_id1723578
DTSTART;TZID=Europe/Berlin:20260508T190000
DURATION:PT30M
LOCATION:St. Kilian
END:VEVENT
END:VCALENDAR
