BEGIN:VCALENDAR
VERSION:2.0
PRODID:-//Sabre//Sabre VObject 4.5.8//EN
CALSCALE:GREGORIAN
BEGIN:VEVENT
UID:sabre-vobject-9245aa8f-b6a8-4c0f-8764-e8caa20cdf2b
DTSTAMP:20260424T210553Z
SUMMARY:Maifest in der Kita St. Kilian\nBis 13:00 Uhr
DESCRIPTION:https://www2.bistum-augsburg.de/gottesdienste/maifest-in-der-ki
 ta-st-kilian-bis-13-00-uhr_id1723579
DTSTART;TZID=Europe/Berlin:20260509T100000
DURATION:PT30M
LOCATION:St. Kilian
END:VEVENT
END:VCALENDAR
