BEGIN:VCALENDAR
VERSION:2.0
PRODID:-//Sabre//Sabre VObject 4.5.8//EN
CALSCALE:GREGORIAN
BEGIN:VEVENT
UID:sabre-vobject-04c660ee-9059-4356-b776-78cd219e33cf
DTSTAMP:20260424T070659Z
SUMMARY:Rosenkranz
DESCRIPTION:https://www2.bistum-augsburg.de/gottesdienste/rosenkranz_id1723
 587
DTSTART;TZID=Europe/Berlin:20260511T183000
DURATION:PT30M
LOCATION:St. Peter und Paul\, Pfarrer-Steinacker-Straße 56\, 86551 Ecknach
END:VEVENT
END:VCALENDAR
