BEGIN:VCALENDAR
VERSION:2.0
PRODID:-//Sabre//Sabre VObject 4.5.8//EN
CALSCALE:GREGORIAN
BEGIN:VEVENT
UID:sabre-vobject-eb4a8082-7c7e-4265-9fe6-6e866d59c5ef
DTSTAMP:20260424T200619Z
SUMMARY:Bittgang nach Kiensee\nTreffpunkt an der Pfarrkirche um 19:00 Uhr\n
 Im Anschluss Hl. Messe in der Marienkapelle in Kiensee\n(Bei Regen um 19:0
 0 Uhr Hl. Messe in Kiensee)
DESCRIPTION:https://www2.bistum-augsburg.de/gottesdienste/bittgang-nach-kie
 nsee-treffpunkt-an-der-pfarrkirche-um-19-00-uhr-im-anschluss-hl-messe-in-d
 er-marienkapelle-in-kiensee-bei-regen-um-19-00-uhr-hl-messe-in-kiensee_id1
 723596
DTSTART;TZID=Europe/Berlin:20260511T190000
DURATION:PT30M
LOCATION:St. Kilian
END:VEVENT
END:VCALENDAR
