BEGIN:VCALENDAR
VERSION:2.0
PRODID:-//Sabre//Sabre VObject 4.5.8//EN
CALSCALE:GREGORIAN
BEGIN:VEVENT
UID:sabre-vobject-fed9e37c-2595-4460-9504-9be37bc792a6
DTSTAMP:20260423T222908Z
SUMMARY:Kinderkirche
DESCRIPTION:https://www2.bistum-augsburg.de/gottesdienste/kinderkirche_id17
 23611
DTSTART;TZID=Europe/Berlin:20260517T100000
DURATION:PT30M
LOCATION:St. Jakobus maj.\, St.-Jakobs-Platz\, 86316 Friedberg
END:VEVENT
END:VCALENDAR
