BEGIN:VCALENDAR
VERSION:2.0
PRODID:-//Sabre//Sabre VObject 4.5.8//EN
CALSCALE:GREGORIAN
BEGIN:VEVENT
UID:sabre-vobject-67b25cfb-1ccc-4e5a-951e-65066f42a19d
DTSTAMP:20260425T104632Z
SUMMARY:Bittgang nach Immendorf
DESCRIPTION:https://www2.bistum-augsburg.de/gottesdienste/bittgang-nach-imm
 endorf_id1723613
DTSTART;TZID=Europe/Berlin:20260511T181500
DURATION:PT30M
LOCATION:St. Maria Magdalena
END:VEVENT
END:VCALENDAR
