BEGIN:VCALENDAR
VERSION:2.0
PRODID:-//Sabre//Sabre VObject 4.5.8//EN
CALSCALE:GREGORIAN
BEGIN:VEVENT
UID:sabre-vobject-2d7a87e1-0418-4231-85d4-2be01951e7bf
DTSTAMP:20260424T014546Z
SUMMARY:Kirchenführung intern
DESCRIPTION:https://www2.bistum-augsburg.de/gottesdienste/kirchenfuehrung-i
 ntern_id1723620
DTSTART;TZID=Europe/Berlin:20260517T150000
DURATION:PT30M
LOCATION:St. Jakobus maj.\, St.-Jakobs-Platz\, 86316 Friedberg
END:VEVENT
END:VCALENDAR
