BEGIN:VCALENDAR
VERSION:2.0
PRODID:-//Sabre//Sabre VObject 4.5.8//EN
CALSCALE:GREGORIAN
BEGIN:VEVENT
UID:sabre-vobject-e35b50f3-a988-4b2d-b7bf-f5acc57362cb
DTSTAMP:20260424T075147Z
SUMMARY:Taufe von Josefine Bigler
DESCRIPTION:https://www2.bistum-augsburg.de/gottesdienste/taufe-von-josefin
 e-bigler_id1723622
DTSTART;TZID=Europe/Berlin:20260509T110000
DURATION:PT30M
LOCATION:Mariä Heimsuchung
END:VEVENT
END:VCALENDAR
