BEGIN:VCALENDAR
VERSION:2.0
PRODID:-//Sabre//Sabre VObject 4.5.8//EN
CALSCALE:GREGORIAN
BEGIN:VEVENT
UID:sabre-vobject-b9b51688-bee3-441f-9f77-7b89ab4a8d4f
DTSTAMP:20260423T205107Z
SUMMARY:Hl. Messe
DESCRIPTION:https://www2.bistum-augsburg.de/gottesdienste/hl-messe_id172362
 3
DTSTART;TZID=Europe/Berlin:20260517T183000
DURATION:PT30M
LOCATION:St. Jakobus maj.\, St.-Jakobs-Platz\, 86316 Friedberg
END:VEVENT
END:VCALENDAR
