BEGIN:VCALENDAR
VERSION:2.0
PRODID:-//Sabre//Sabre VObject 4.5.8//EN
CALSCALE:GREGORIAN
BEGIN:VEVENT
UID:sabre-vobject-9a96923e-911e-40c5-a5e1-8677afbfb90b
DTSTAMP:20260423T191229Z
SUMMARY:Prüfungssegen für Mittel-\, Förder- und Realschüler
DESCRIPTION:https://www2.bistum-augsburg.de/gottesdienste/pruefungssegen-fu
 er-mittel-foerder-und-realschueler_id1723626
DTSTART;TZID=Europe/Berlin:20260517T193000
DURATION:PT30M
LOCATION:St. Jakobus maj.\, St.-Jakobs-Platz\, 86316 Friedberg
END:VEVENT
END:VCALENDAR
