BEGIN:VCALENDAR
VERSION:2.0
PRODID:-//Sabre//Sabre VObject 4.5.8//EN
CALSCALE:GREGORIAN
BEGIN:VEVENT
UID:sabre-vobject-0c6ea395-59d4-4a0c-92a3-770756805b2b
DTSTAMP:20260424T151914Z
SUMMARY:Bittgang nach Immendorf  (Treffpunkt Wagesenberg - Bushaltestelle)
DESCRIPTION:https://www2.bistum-augsburg.de/gottesdienste/bittgang-nach-imm
 endorf-treffpunkt-wagesenberg-bushaltestelle_id1723628
DTSTART;TZID=Europe/Berlin:20260511T183000
DURATION:PT30M
LOCATION:St. Anna
END:VEVENT
END:VCALENDAR
