BEGIN:VCALENDAR
VERSION:2.0
PRODID:-//Sabre//Sabre VObject 4.5.8//EN
CALSCALE:GREGORIAN
BEGIN:VEVENT
UID:sabre-vobject-cf8ba51d-ee96-49be-8438-ab9710eda4a6
DTSTAMP:20260423T211450Z
SUMMARY:Bittgang nach Immendorf  (Treffpunkt an der Kirche)
DESCRIPTION:https://www2.bistum-augsburg.de/gottesdienste/bittgang-nach-imm
 endorf-treffpunkt-an-der-kirche_id1723629
DTSTART;TZID=Europe/Berlin:20260511T164500
DURATION:PT30M
LOCATION:Mariä Heimsuchung
END:VEVENT
END:VCALENDAR
