BEGIN:VCALENDAR
VERSION:2.0
PRODID:-//Sabre//Sabre VObject 4.5.8//EN
CALSCALE:GREGORIAN
BEGIN:VEVENT
UID:sabre-vobject-6173a180-3485-4c6c-a1e6-d09419f1bbb7
DTSTAMP:20260424T113042Z
SUMMARY:Hl. Messe
DESCRIPTION:https://www2.bistum-augsburg.de/gottesdienste/hl-messe_id172363
 3
DTSTART;TZID=Europe/Berlin:20260510T100000
DURATION:PT30M
LOCATION:St. Michael\, Obere Straße 1\, 86554 Osterzhausen
END:VEVENT
END:VCALENDAR
