BEGIN:VCALENDAR
VERSION:2.0
PRODID:-//Sabre//Sabre VObject 4.5.8//EN
CALSCALE:GREGORIAN
BEGIN:VEVENT
UID:sabre-vobject-33afe448-031e-4e57-b2d2-9fa3c698859e
DTSTAMP:20260424T071843Z
SUMMARY:Eucharistiefeier mit kurzer Maiandacht
DESCRIPTION:https://www2.bistum-augsburg.de/gottesdienste/eucharistiefeier-
 mit-kurzer-maiandacht_id1723649
DTSTART;TZID=Europe/Berlin:20260512T180000
DURATION:PT30M
LOCATION:St. Peter und Paul\, Pfarrer-Steinacker-Straße 56\, 86551 Ecknach
END:VEVENT
END:VCALENDAR
