BEGIN:VCALENDAR
VERSION:2.0
PRODID:-//Sabre//Sabre VObject 4.5.8//EN
CALSCALE:GREGORIAN
BEGIN:VEVENT
UID:sabre-vobject-237380b0-1966-47bf-a38a-8abc5e14b5ab
DTSTAMP:20260424T071702Z
SUMMARY:Festgottesdienst an Christi Himmelfahrt
DESCRIPTION:https://www2.bistum-augsburg.de/gottesdienste/festgottesdienst-
 an-christi-himmelfahrt_id1723650
DTSTART;TZID=Europe/Berlin:20260514T103000
DURATION:PT30M
LOCATION:St. Peter und Paul\, Pfarrer-Steinacker-Straße 56\, 86551 Ecknach
END:VEVENT
END:VCALENDAR
