BEGIN:VCALENDAR
VERSION:2.0
PRODID:-//Sabre//Sabre VObject 4.5.8//EN
CALSCALE:GREGORIAN
BEGIN:VEVENT
UID:sabre-vobject-5a5d97ab-2bb7-451c-9e69-ab56ca599bba
DTSTAMP:20260423T222807Z
SUMMARY:Wallfahrt nach Andechs über Wallfahrerverein
DESCRIPTION:https://www2.bistum-augsburg.de/gottesdienste/wallfahrt-nach-an
 dechs-ueber-wallfahrerverein_id1723660
DTSTART;TZID=Europe/Berlin:20260511T000000
DURATION:PT30M
LOCATION:St. Jakobus maj.\, St.-Jakobs-Platz\, 86316 Friedberg
END:VEVENT
END:VCALENDAR
