BEGIN:VCALENDAR
VERSION:2.0
PRODID:-//Sabre//Sabre VObject 4.5.8//EN
CALSCALE:GREGORIAN
BEGIN:VEVENT
UID:sabre-vobject-2b7618e9-2411-46d0-ae1e-6de963ae9221
DTSTAMP:20260424T161720Z
SUMMARY:Pfarr- und Gemeindenachmittag 70+ mit Maiandacht\, musikalisch gest
 altet von den Aichacher Zupfschwestern\, danach Kaffee und Kuchen im Pfarr
 heim
DESCRIPTION:https://www2.bistum-augsburg.de/gottesdienste/pfarr-und-gemeind
 enachmittag-70-mit-maiandacht-musikalisch-gestaltet-von-den-aichacher-zupf
 schwestern-danach-kaffee-und-kuchen-im-pfarrheim_id1723665
DTSTART;TZID=Europe/Berlin:20260512T140000
DURATION:PT30M
LOCATION:St. Johannes Baptist
END:VEVENT
END:VCALENDAR
