BEGIN:VCALENDAR
VERSION:2.0
PRODID:-//Sabre//Sabre VObject 4.5.8//EN
CALSCALE:GREGORIAN
BEGIN:VEVENT
UID:sabre-vobject-2e7e55e5-e668-4cce-a5e6-88d1f7429ecc
DTSTAMP:20260425T190442Z
SUMMARY:Bittgang nach  Kühnhausen an der Pfarrkirche Pöttmes\, um 18.15 U
 hr Weggang am Wertstoffhof
DESCRIPTION:https://www2.bistum-augsburg.de/gottesdienste/bittgang-nach-kue
 hnhausen-an-der-pfarrkirche-poettmes-um-18-15-uhr-weggang-am-wertstoffhof_
 id1723674
DTSTART;TZID=Europe/Berlin:20260512T180000
DURATION:PT30M
LOCATION:St. Peter und Paul
END:VEVENT
END:VCALENDAR
