BEGIN:VCALENDAR
VERSION:2.0
PRODID:-//Sabre//Sabre VObject 4.5.8//EN
CALSCALE:GREGORIAN
BEGIN:VEVENT
UID:sabre-vobject-6ebb99bb-3510-4768-859a-41834465205b
DTSTAMP:20260424T013658Z
SUMMARY:Bittmesse in St. Josef Kühnhausen
DESCRIPTION:https://www2.bistum-augsburg.de/gottesdienste/bittmesse-in-st-j
 osef-kuehnhausen_id1723675
DTSTART;TZID=Europe/Berlin:20260512T190000
DURATION:PT30M
LOCATION:St. Peter und Paul
END:VEVENT
END:VCALENDAR
