BEGIN:VCALENDAR
VERSION:2.0
PRODID:-//Sabre//Sabre VObject 4.5.8//EN
CALSCALE:GREGORIAN
BEGIN:VEVENT
UID:sabre-vobject-a6a62655-1686-4d58-a63d-f56aa827db49
DTSTAMP:20260424T185853Z
SUMMARY:Entfällt - Rosenkranz
DESCRIPTION:https://www2.bistum-augsburg.de/gottesdienste/entfaellt-rosenkr
 anz_id1723680
DTSTART;TZID=Europe/Berlin:20260512T180000
DURATION:PT30M
LOCATION:St. Konrad
END:VEVENT
END:VCALENDAR
