BEGIN:VCALENDAR
VERSION:2.0
PRODID:-//Sabre//Sabre VObject 4.5.8//EN
CALSCALE:GREGORIAN
BEGIN:VEVENT
UID:sabre-vobject-537f87e7-f807-4a75-9344-3c27fe2d085c
DTSTAMP:20260425T223229Z
SUMMARY:Feier der Erstkommunion
DESCRIPTION:https://www2.bistum-augsburg.de/gottesdienste/feier-der-erstkom
 munion_id1723682
DTSTART;TZID=Europe/Berlin:20260426T101500
DURATION:PT30M
LOCATION:St. Johannes Baptist
END:VEVENT
END:VCALENDAR
