BEGIN:VCALENDAR
VERSION:2.0
PRODID:-//Sabre//Sabre VObject 4.5.8//EN
CALSCALE:GREGORIAN
BEGIN:VEVENT
UID:sabre-vobject-f29856a8-42dd-4b52-a40a-2f8d0e4b1007
DTSTAMP:20260425T122717Z
SUMMARY:Hl. Messe in der Fachklinik - ENTFÄLLT
DESCRIPTION:https://www2.bistum-augsburg.de/gottesdienste/hl-messe-in-der-f
 achklinik-entfaellt_id1723740
DTSTART;TZID=Europe/Berlin:20260526T190000
DURATION:PT30M
LOCATION:St. Kilian
END:VEVENT
END:VCALENDAR
