BEGIN:VCALENDAR
VERSION:2.0
PRODID:-//Sabre//Sabre VObject 4.5.8//EN
CALSCALE:GREGORIAN
BEGIN:VEVENT
UID:sabre-vobject-6e4b7e0e-0df3-4403-9033-4c38cbd48b10
DTSTAMP:20260425T210049Z
SUMMARY:Hl. Messe in der Pfarrkirche - Entfällt -
DESCRIPTION:https://www2.bistum-augsburg.de/gottesdienste/hl-messe-in-der-p
 farrkirche-entfaellt_id1723742
DTSTART;TZID=Europe/Berlin:20260528T190000
DURATION:PT30M
LOCATION:St. Kilian
END:VEVENT
END:VCALENDAR
