BEGIN:VCALENDAR
VERSION:2.0
PRODID:-//Sabre//Sabre VObject 4.5.8//EN
CALSCALE:GREGORIAN
BEGIN:VEVENT
UID:sabre-vobject-4ea6d798-7151-43cb-bad4-61b118202b8c
DTSTAMP:20260423T035459Z
SUMMARY:Wallfahrt nach Maria Birnbaum\, dort um 8:30 Uhr Messe
DESCRIPTION:https://www2.bistum-augsburg.de/gottesdienste/wallfahrt-nach-ma
 ria-birnbaum-dort-um-8-30-uhr-messe_id1723743
DTSTART;TZID=Europe/Berlin:20260501T071500
DURATION:PT30M
LOCATION:St. Laurentius\, Dorfstraße 20\, 86559 Heretshausen
END:VEVENT
END:VCALENDAR
