BEGIN:VCALENDAR
VERSION:2.0
PRODID:-//Sabre//Sabre VObject 4.5.8//EN
CALSCALE:GREGORIAN
BEGIN:VEVENT
UID:sabre-vobject-5ad2f4fc-5693-448f-b568-702c3d3b3c83
DTSTAMP:20260426T013151Z
SUMMARY:Wort-Gottes-Feier
DESCRIPTION:https://www2.bistum-augsburg.de/gottesdienste/wort-gottes-feier
 _id1723782
DTSTART;TZID=Europe/Berlin:20260426T090000
DURATION:PT30M
LOCATION:St. Michael
END:VEVENT
END:VCALENDAR
