BEGIN:VCALENDAR
VERSION:2.0
PRODID:-//Sabre//Sabre VObject 4.5.8//EN
CALSCALE:GREGORIAN
BEGIN:VEVENT
UID:sabre-vobject-db69cf98-6a7d-47b1-8127-1c3b96441033
DTSTAMP:20260423T172258Z
SUMMARY:Hl. Messe für
DESCRIPTION:https://www2.bistum-augsburg.de/gottesdienste/hl-messe-fuer_id1
 723783
DTSTART;TZID=Europe/Berlin:20260501T090000
DURATION:PT30M
LOCATION:St. Michael
END:VEVENT
END:VCALENDAR
