BEGIN:VCALENDAR
VERSION:2.0
PRODID:-//Sabre//Sabre VObject 4.5.8//EN
CALSCALE:GREGORIAN
BEGIN:VEVENT
UID:sabre-vobject-cc37bc74-87d9-437c-a8b3-a2ffdd5ef995
DTSTAMP:20260424T213757Z
SUMMARY:Beichtgelegenheit (bis 17.45 Uhr)
DESCRIPTION:https://www2.bistum-augsburg.de/gottesdienste/beichtgelegenheit
 -bis-17-45-uhr_id1723801
DTSTART;TZID=Europe/Berlin:20260509T170000
DURATION:PT30M
LOCATION:Mariä Himmelfahrt
END:VEVENT
END:VCALENDAR
