BEGIN:VCALENDAR
VERSION:2.0
PRODID:-//Sabre//Sabre VObject 4.5.8//EN
CALSCALE:GREGORIAN
BEGIN:VEVENT
UID:sabre-vobject-85867401-998f-4571-bcfe-9de410265956
DTSTAMP:20260422T194310Z
SUMMARY:Bittgang nach Maria Vesperbild
DESCRIPTION:https://www2.bistum-augsburg.de/gottesdienste/bittgang-nach-mar
 ia-vesperbild_id1723823
DTSTART;TZID=Europe/Berlin:20260501T063000
DURATION:PT30M
LOCATION:St. Peter und Paul
END:VEVENT
END:VCALENDAR
