BEGIN:VCALENDAR
VERSION:2.0
PRODID:-//Sabre//Sabre VObject 4.5.8//EN
CALSCALE:GREGORIAN
BEGIN:VEVENT
UID:sabre-vobject-1f229de3-b288-4f2c-a672-d13893299c13
DTSTAMP:20260419T173221Z
SUMMARY:Hl. Messe für
DESCRIPTION:https://www2.bistum-augsburg.de/gottesdienste/hl-messe-fuer_id1
 723850
DTSTART;TZID=Europe/Berlin:20260506T190000
DURATION:PT30M
LOCATION:St. Quirinus
END:VEVENT
END:VCALENDAR
