BEGIN:VCALENDAR
VERSION:2.0
PRODID:-//Sabre//Sabre VObject 4.5.8//EN
CALSCALE:GREGORIAN
BEGIN:VEVENT
UID:sabre-vobject-3bacc993-174a-4ece-b6c1-a2a50eb535c3
DTSTAMP:20260426T002344Z
SUMMARY:Hl. Messe für
DESCRIPTION:https://www2.bistum-augsburg.de/gottesdienste/hl-messe-fuer_id1
 723852
DTSTART;TZID=Europe/Berlin:20260425T191500
DURATION:PT30M
LOCATION:St. Quirinus
END:VEVENT
END:VCALENDAR
