BEGIN:VCALENDAR
VERSION:2.0
PRODID:-//Sabre//Sabre VObject 4.5.8//EN
CALSCALE:GREGORIAN
BEGIN:VEVENT
UID:sabre-vobject-9f19c758-6635-4b6d-9848-4adaf19225d3
DTSTAMP:20260419T173234Z
SUMMARY:Rosenkranz zur Bittwoche in der Pfarrkirche
DESCRIPTION:https://www2.bistum-augsburg.de/gottesdienste/rosenkranz-zur-bi
 ttwoche-in-der-pfarrkirche_id1723866
DTSTART;TZID=Europe/Berlin:20260513T190000
DURATION:PT30M
LOCATION:St. Nikolaus\, Wertingerstraße 61\, 86405 Meitingen
END:VEVENT
END:VCALENDAR
